BEGIN:VCALENDAR
VERSION:2.0
PRODID:-// - ECPv6.9.0//NONSGML v1.0//EN
CALSCALE:GREGORIAN
METHOD:PUBLISH
X-ORIGINAL-URL:https://eetab.org.uk
X-WR-CALDESC:Events for 
REFRESH-INTERVAL;VALUE=DURATION:PT1H
X-Robots-Tag:noindex
X-PUBLISHED-TTL:PT1H
BEGIN:VTIMEZONE
TZID:UTC
BEGIN:STANDARD
TZOFFSETFROM:+0000
TZOFFSETTO:+0000
TZNAME:UTC
DTSTART:20230101T000000
END:STANDARD
END:VTIMEZONE
BEGIN:VEVENT
DTSTART;TZID=UTC:20230711T193000
DTEND;TZID=UTC:20230711T213000
DTSTAMP:20260421T114238
CREATED:20230201T214636Z
LAST-MODIFIED:20230201T214636Z
UID:1171-1689103800-1689111000@eetab.org.uk
SUMMARY:EETAB group meeting
DESCRIPTION:
URL:https://eetab.org.uk/index.php/event/eetab-group-meeting-6/
END:VEVENT
END:VCALENDAR