BEGIN:VCALENDAR
VERSION:2.0
PRODID:-// - ECPv6.9.0//NONSGML v1.0//EN
CALSCALE:GREGORIAN
METHOD:PUBLISH
X-ORIGINAL-URL:https://eetab.org.uk
X-WR-CALDESC:Events for 
REFRESH-INTERVAL;VALUE=DURATION:PT1H
X-Robots-Tag:noindex
X-PUBLISHED-TTL:PT1H
BEGIN:VTIMEZONE
TZID:UTC
BEGIN:STANDARD
TZOFFSETFROM:+0000
TZOFFSETTO:+0000
TZNAME:UTC
DTSTART:20230101T000000
END:STANDARD
END:VTIMEZONE
BEGIN:VEVENT
DTSTART;TZID=UTC:20230701T100000
DTEND;TZID=UTC:20230701T140000
DTSTAMP:20260421T114239
CREATED:20230522T211311Z
LAST-MODIFIED:20230522T211449Z
UID:1259-1688205600-1688220000@eetab.org.uk
SUMMARY:Visit the TAB stand at the EcoFair at St Martin's
DESCRIPTION:EcoFair at St Martin’s church is on again this year! Visit the TAB stand to talk to us
URL:https://eetab.org.uk/index.php/event/visit-the-tab-stand-at-the-ecofair-at-st-martins/
END:VEVENT
END:VCALENDAR