BEGIN:VCALENDAR
VERSION:2.0
PRODID:-// - ECPv6.9.0//NONSGML v1.0//EN
CALSCALE:GREGORIAN
METHOD:PUBLISH
X-ORIGINAL-URL:https://eetab.org.uk
X-WR-CALDESC:Events for 
REFRESH-INTERVAL;VALUE=DURATION:PT1H
X-Robots-Tag:noindex
X-PUBLISHED-TTL:PT1H
BEGIN:VTIMEZONE
TZID:UTC
BEGIN:STANDARD
TZOFFSETFROM:+0000
TZOFFSETTO:+0000
TZNAME:UTC
DTSTART:20230101T000000
END:STANDARD
END:VTIMEZONE
BEGIN:VEVENT
DTSTART;TZID=UTC:20230611T113000
DTEND;TZID=UTC:20230611T130000
DTSTAMP:20260421T131343
CREATED:20230522T211042Z
LAST-MODIFIED:20230522T211042Z
UID:1257-1686483000-1686488400@eetab.org.uk
SUMMARY:Tree nursery open morning
DESCRIPTION:Come visit our Tree Nursery at Bridle Road allotment. Open Day on Sunday 11th June from 1130am till 1.30pm. \nPlease email to let us know so we can organise someone at the gate to let you in. See you there!
URL:https://eetab.org.uk/index.php/event/tree-nursery-open-morning/
LOCATION:EETAB tree nursery at Bridle Rd Allotment\, Bridle road allotment\, Epsom\, United Kingdom
END:VEVENT
END:VCALENDAR