BEGIN:VCALENDAR
VERSION:2.0
PRODID:-// - ECPv6.9.0//NONSGML v1.0//EN
CALSCALE:GREGORIAN
METHOD:PUBLISH
X-ORIGINAL-URL:https://eetab.org.uk
X-WR-CALDESC:Events for 
REFRESH-INTERVAL;VALUE=DURATION:PT1H
X-Robots-Tag:noindex
X-PUBLISHED-TTL:PT1H
BEGIN:VTIMEZONE
TZID:UTC
BEGIN:STANDARD
TZOFFSETFROM:+0000
TZOFFSETTO:+0000
TZNAME:UTC
DTSTART:20230101T000000
END:STANDARD
END:VTIMEZONE
BEGIN:VEVENT
DTSTART;TZID=UTC:20230609T123000
DTEND;TZID=UTC:20230609T140000
DTSTAMP:20260421T131341
CREATED:20230522T212203Z
LAST-MODIFIED:20230522T212203Z
UID:1265-1686313800-1686319200@eetab.org.uk
SUMMARY:Tree Nursery working party
DESCRIPTION:Many hands make light work\, pitch in at our Tree Nursery tidying\, planting and repotting and help get it looking its best.
URL:https://eetab.org.uk/index.php/event/tree-nursery-working-party-3/
LOCATION:EETAB tree nursery at Bridle Rd Allotment\, Bridle road allotment\, Epsom\, United Kingdom
END:VEVENT
END:VCALENDAR