BEGIN:VCALENDAR
VERSION:2.0
PRODID:-// - ECPv6.9.0//NONSGML v1.0//EN
CALSCALE:GREGORIAN
METHOD:PUBLISH
X-ORIGINAL-URL:https://eetab.org.uk
X-WR-CALDESC:Events for 
REFRESH-INTERVAL;VALUE=DURATION:PT1H
X-Robots-Tag:noindex
X-PUBLISHED-TTL:PT1H
BEGIN:VTIMEZONE
TZID:UTC
BEGIN:STANDARD
TZOFFSETFROM:+0000
TZOFFSETTO:+0000
TZNAME:UTC
DTSTART:20230101T000000
END:STANDARD
END:VTIMEZONE
BEGIN:VEVENT
DTSTART;TZID=UTC:20230129T100000
DTEND;TZID=UTC:20230129T130000
DTSTAMP:20260421T220629
CREATED:20230120T112653Z
LAST-MODIFIED:20230120T112653Z
UID:1115-1674986400-1674997200@eetab.org.uk
SUMMARY:Auriol Park Orchard Planting
DESCRIPTION:Join us and the Friends of Auriol Park to plant twelve new fruit trees for a community orchard. Please bring a spade.\nIf you would like to volunteer to help\, please email epsomandewelltab@gmail.com to let us know you are coming.
URL:https://eetab.org.uk/index.php/event/auriol-park-orchard-planting/
LOCATION:Auriol Park
END:VEVENT
END:VCALENDAR