BEGIN:VCALENDAR
VERSION:2.0
PRODID:-// - ECPv6.9.0//NONSGML v1.0//EN
CALSCALE:GREGORIAN
METHOD:PUBLISH
X-ORIGINAL-URL:https://eetab.org.uk
X-WR-CALDESC:Events for 
REFRESH-INTERVAL;VALUE=DURATION:PT1H
X-Robots-Tag:noindex
X-PUBLISHED-TTL:PT1H
BEGIN:VTIMEZONE
TZID:UTC
BEGIN:STANDARD
TZOFFSETFROM:+0000
TZOFFSETTO:+0000
TZNAME:UTC
DTSTART:20220101T000000
END:STANDARD
END:VTIMEZONE
BEGIN:VEVENT
DTSTART;TZID=UTC:20221108T193000
DTEND;TZID=UTC:20221108T213000
DTSTAMP:20260422T014436
CREATED:20220804T224117Z
LAST-MODIFIED:20221108T232107Z
UID:844-1667935800-1667943000@eetab.org.uk
SUMMARY:EETAB group meeting
DESCRIPTION:Epsom and Ewell Tree Advisory Board group meeting at the Haywain
URL:https://eetab.org.uk/index.php/event/eetab-group-meeting-2/
LOCATION:The Haywain\, St Margaret Dr\, Epsom\, KT18 7JP\, United Kingdom
ATTACH;FMTTYPE=image/jpeg:https://eetab.org.uk/wp-content/uploads/2022/08/Event-calendar-feature-image-EETAB-meeting-16x9-1.jpg
END:VEVENT
END:VCALENDAR