BEGIN:VCALENDAR
VERSION:2.0
PRODID:-// - ECPv6.9.0//NONSGML v1.0//EN
CALSCALE:GREGORIAN
METHOD:PUBLISH
X-ORIGINAL-URL:https://eetab.org.uk
X-WR-CALDESC:Events for 
REFRESH-INTERVAL;VALUE=DURATION:PT1H
X-Robots-Tag:noindex
X-PUBLISHED-TTL:PT1H
BEGIN:VTIMEZONE
TZID:UTC
BEGIN:STANDARD
TZOFFSETFROM:+0000
TZOFFSETTO:+0000
TZNAME:UTC
DTSTART:20220101T000000
END:STANDARD
END:VTIMEZONE
BEGIN:VEVENT
DTSTART;TZID=UTC:20220924T100000
DTEND;TZID=UTC:20220924T140000
DTSTAMP:20260422T050035
CREATED:20220805T143251Z
LAST-MODIFIED:20220805T143251Z
UID:862-1664013600-1664028000@eetab.org.uk
SUMMARY:Eco Fair 2022
DESCRIPTION:Following the success of last year’s first ever Eco Fair in Epsom and Ewell we’re looking forward to this year’s Eco Fair! \nCheck for updates or follow Sustainable Epsom and Ewell on Facebook/Instagram!
URL:https://eetab.org.uk/index.php/event/eco-fair-2022/
ATTACH;FMTTYPE=image/png:https://eetab.org.uk/wp-content/uploads/2022/08/Eco-fair-16x9-for-Event-Calendar.png
END:VEVENT
END:VCALENDAR